BEGIN:VCALENDAR
VERSION:2.0
PRODID:spatie/icalendar-generator
NAME:Milwaukee Innovation Tour - THD AJAX - June 5\, 2026
X-WR-CALNAME:Milwaukee Innovation Tour - THD AJAX - June 5\, 2026
DESCRIPTION:
X-WR-CALDESC:
BEGIN:VTIMEZONE
TZID:America/Toronto
BEGIN:STANDARD
DTSTART:20251102T010000
TZOFFSETFROM:-0400
TZOFFSETTO:-0500
END:STANDARD
BEGIN:DAYLIGHT
DTSTART:20260308T010000
TZOFFSETFROM:-0500
TZOFFSETTO:-0400
END:DAYLIGHT
BEGIN:STANDARD
DTSTART:20261101T010000
TZOFFSETFROM:-0400
TZOFFSETTO:-0500
END:STANDARD
END:VTIMEZONE
BEGIN:VTIMEZONE
TZID:UTC
BEGIN:STANDARD
DTSTART:20250725T123704
TZOFFSETFROM:+0000
TZOFFSETTO:+0000
END:STANDARD
END:VTIMEZONE
BEGIN:VEVENT
UID:event-205@milthd.promoecho.com
DTSTAMP:20260421T123704Z
SUMMARY:Milwaukee Innovation Tour - THD AJAX - June 5\, 2026
DESCRIPTION:
LOCATION:256-260 Kingston Road East\, Ajax\, Ontario\, L1Z 1G1
STATUS:CONFIRMED
DTSTART;TZID=America/Toronto:20260605T080000
DTEND;TZID=America/Toronto:20260605T150000
GEO:43.86698439999999976635081111453473567962646484375;-79.0152417000000042
 435203795321285724639892578125
SEQUENCE:1776775024
END:VEVENT
END:VCALENDAR