BEGIN:VCALENDAR
VERSION:2.0
PRODID:spatie/icalendar-generator
NAME:Milwaukee Innovation Tour - THD FREDERICTON - June 5\, 2026
X-WR-CALNAME:Milwaukee Innovation Tour - THD FREDERICTON - June 5\, 2026
DESCRIPTION:
X-WR-CALDESC:
BEGIN:VTIMEZONE
TZID:America/Toronto
BEGIN:STANDARD
DTSTART:20251102T010000
TZOFFSETFROM:-0400
TZOFFSETTO:-0500
END:STANDARD
BEGIN:DAYLIGHT
DTSTART:20260308T010000
TZOFFSETFROM:-0500
TZOFFSETTO:-0400
END:DAYLIGHT
BEGIN:STANDARD
DTSTART:20261101T010000
TZOFFSETFROM:-0400
TZOFFSETTO:-0500
END:STANDARD
END:VTIMEZONE
BEGIN:VTIMEZONE
TZID:UTC
BEGIN:STANDARD
DTSTART:20250725T123703
TZOFFSETFROM:+0000
TZOFFSETTO:+0000
END:STANDARD
END:VTIMEZONE
BEGIN:VEVENT
UID:event-204@milthd.promoecho.com
DTSTAMP:20260421T123703Z
SUMMARY:Milwaukee Innovation Tour - THD FREDERICTON - June 5\, 2026
DESCRIPTION:
LOCATION:1450 Regent Street\, Fredericton\, New Brunswick\, E3C 0N9
STATUS:CONFIRMED
DTSTART;TZID=America/Toronto:20260605T080000
DTEND;TZID=America/Toronto:20260605T150000
GEO:45.92876340000000112695488496683537960052490234375;-66.6606634000000042
 30605554766952991485595703125
SEQUENCE:1776775023
END:VEVENT
END:VCALENDAR